BEGIN:VCALENDAR
VERSION:2.0
PRODID:-//GönnDirWatt - ECPv6.15.20//NONSGML v1.0//EN
CALSCALE:GREGORIAN
METHOD:PUBLISH
X-WR-CALNAME:GönnDirWatt
X-ORIGINAL-URL:https://www.goenndirwatt.de
X-WR-CALDESC:Veranstaltungen für GönnDirWatt
REFRESH-INTERVAL;VALUE=DURATION:PT1H
X-Robots-Tag:noindex
X-PUBLISHED-TTL:PT1H
BEGIN:VTIMEZONE
TZID:Europe/Berlin
BEGIN:DAYLIGHT
TZOFFSETFROM:+0100
TZOFFSETTO:+0200
TZNAME:CEST
DTSTART:20250330T010000
END:DAYLIGHT
BEGIN:STANDARD
TZOFFSETFROM:+0200
TZOFFSETTO:+0100
TZNAME:CET
DTSTART:20251026T010000
END:STANDARD
BEGIN:DAYLIGHT
TZOFFSETFROM:+0100
TZOFFSETTO:+0200
TZNAME:CEST
DTSTART:20260329T010000
END:DAYLIGHT
BEGIN:STANDARD
TZOFFSETFROM:+0200
TZOFFSETTO:+0100
TZNAME:CET
DTSTART:20261025T010000
END:STANDARD
BEGIN:DAYLIGHT
TZOFFSETFROM:+0100
TZOFFSETTO:+0200
TZNAME:CEST
DTSTART:20270328T010000
END:DAYLIGHT
BEGIN:STANDARD
TZOFFSETFROM:+0200
TZOFFSETTO:+0100
TZNAME:CET
DTSTART:20271031T010000
END:STANDARD
END:VTIMEZONE
BEGIN:VEVENT
DTSTART;TZID=Europe/Berlin:20261227T113000
DTEND;TZID=Europe/Berlin:20261227T113000
DTSTAMP:20260425T062740
CREATED:20251220T170204Z
LAST-MODIFIED:20251222T130135Z
UID:3100-1798371000-1798371000@www.goenndirwatt.de
SUMMARY:Flut erleben für Alle
DESCRIPTION:Flut erleben und vorher ganz in Ruhe das Watt erkunden! \n\n\n\nUnser informativer\, kurzweiliger und familienfreundlicher Wattspaziergang für ALLE\, die in kurzer Zeit möglichst viel über das Watt und seine Bewohner erfahren wollen. Zum Ende der Tour erleben Sie\, wie sich das Wasser den Meeresgrund zurückerobert. Gänsehaut garantiert und trotzdem völlig ungefährlich. \n\n\n\nNatürlich bekommen die Kinder auch hier die Gelegenheit das Watt mit allen Sinnen zu erkunden und zu keschern. \n\n\n\nUnsere Erklärungen gestalten wir so\, dass sie für Kinder verständlich sind\, aber auch die Erwachsenen nicht zu kurz kommen. Und das Beste: Sie bestimmen durch ihre Entdeckungen und Fragen die Tour mit! \n\n\n\nWir begrenzen unsere Gruppen auf ca. 25 Personen. \n\n\n\nDiese Tour ist barfuß möglich. Sicherer ist es mit einem leichten Schnittschutz z. B. Wattsocken. \n\n\n\nWir empfehlen in dieser Jahreszeit Gummistiefel (mind. 20 cm Schafthöhe) mit dicken Socken. \n\n\n\nDa die nicht jeder hat\, leihen wir Ihnen diese gern gegen eine kleine Gebühr. Leihstiefel sind in den Größen 37 bis 46 vorhanden. Die Anzahl ist allerdings begrenzt\, reservieren Sie ihr Paar also frühzeitig! \n\n\n\nDas Buchungsformular finden Sie am unteren Ende dieser Seite. \n\n\n\nUhr \n\n\n\n\n\n\n\n\n\n 1\,5 bis 2 Stunden / max. 2 km \n\n\n\n\n\n  Dorfbrunnen Cuxhaven – Duhnen \n\n\n\n\n\n 0 – geeignet ab 4 Jahren \n\n\n\n\n\nHighlight:  \n\n\n\n\nFlut erleben ohne Altersbegrenzung\n\n\n\n\nPreise:  \n\n\n\n\nErwachsene 12 €\n\n\n\nKinder bis 14 Jahre 10 €\n\n\n\nFamilien (2 Erw. 3 Kinder) 42 € \n\n\n\nGummistiefel (pro Paar) 5 €\n\n\n\n\nTreffpunkt:  \n\n\n\n\nCuxhaven\, Duhnen am Dorfbrunnen\n\n\n\n\nAuf der Karte: \n\n\n\n\n\n\n\n\n\nBuchungsformular:\n\n\n\n		\n		\n\n		\n\n	\n\n		\n		\n		\n		\n			\n			\n	\n\n		Vorname*\n		\n				\n						\n\n\n\n		Nachname*\n		\n				\n						\n\n\n\n		E-Mail*\n		\n				\n						\n\n\n\n		Telefon (mobil)*\n		\n				\n						\n\n\n\n		Straße & Hausnummer*\n		\n				\n						\n\n\n\n		PLZ & Ort*\n		\n				\n						\n\n\n\n		Anzahl Erwachsene\n		\n				\n						\n\n\n\n		Anzahl Kinder\n		\n				\n						\n\n\n\n		Gummistiefel (Anzahl / Schuhgröße)\n		\n				\n						\n\n\n\n		\n					\n				Ich akzeptiere die hier geltende Datenschutzerklärung und AGB*\n			\n					Zur Datenschutzerklärung			\n\n\n\n		Sicherheitsfrage - Was ist 2 + 5*\n		\n				\n						\n\n\n		\n\n		\n			Comments\n			\n				\n				Wenn Sie ein Mensch sind\, füllen Sie dieses Feld nicht aus
URL:https://www.goenndirwatt.de/tour/flut-erleben-fuer-alle-46/
LOCATION:Cuxhaven Duhnen\, Am Dorfbrunnen\, Cuxhaven\, Niedersachsen\, 27476\, Deutschland
CATEGORIES:WATT_FUER_ALLE_FLUT_ERLEBEN
ATTACH;FMTTYPE=image/jpeg:https://www.goenndirwatt.de/wp-content/uploads/2024/08/flut-erleben.jpg
END:VEVENT
BEGIN:VEVENT
DTSTART;TZID=Europe/Berlin:20261229T110000
DTEND;TZID=Europe/Berlin:20261229T110000
DTSTAMP:20260425T062740
CREATED:20251220T170455Z
LAST-MODIFIED:20251222T130241Z
UID:3105-1798542000-1798542000@www.goenndirwatt.de
SUMMARY:Watt für Alle
DESCRIPTION:Informativer und kurzweiliger Wattspaziergang für ALLE\, die in kurzer Zeit möglichst viel über das Watt und seine Bewohner erfahren wollen. \n\n\n\nAlle Teilnehmenden bekommen die Gelegenheit das Watt mit allen Sinnen zu erkunden. Für die kleinen und großen Entdecker halten wir Kescher bereit. \n\n\n\nUnsere Erklärungen gestalten wir so\, dass sie für Kinder verständlich sind\, aber auch die Erwachsenen nicht zu kurz kommen. Und das Beste: Sie bestimmen durch ihre Entdeckungen und Fragen die Tour mit! \n\n\n\nWir begrenzen unsere Gruppen auf ca. 25 Personen. \n\n\n\nDiese Tour ist barfuß möglich. Sicherer ist es mit einem leichten Schnittschutz z. B. Wattsocken. \n\n\n\nWir empfehlen in dieser Jahreszeit Gummistiefel (mind. 20 cm Schafthöhe) mit dicken Socken. \n\n\n\nDa die nicht jeder hat\, leihen wir Ihnen diese gern gegen eine kleine Gebühr. Leihstiefel sind in den Größen 37 bis 46 vorhanden. Die Anzahl ist allerdings begrenzt\, reservieren Sie ihr Paar also frühzeitig! \n\n\n\nDas Buchungsformular finden Sie am unteren Ende dieser Seite. \n\n\n\n\n\n\n\n\n\n 1\,5 bis 2 Stunden / max. 2 km \n\n\n\n\n\n  Dorfbrunnen Cuxhaven – Duhnen \n\n\n\n\n\n 0 – geeignet ab 4 Jahren \n\n\n\n\n\nHighlight:  \n\n\n\n\nkurzweilig\n\n\n\ninformativ und familienfreundlich\n\n\n\n\nPreise:  \n\n\n\n\nErwachsene 12 €\n\n\n\nKinder bis 14 Jahre 10 €\n\n\n\nFamilien (2 Erw. 2 Kinder) 42 € \n\n\n\nGummistiefel (pro Paar) 5 €\n\n\n\n\nTreffpunkt:  \n\n\n\n\nCuxhaven\, Duhnen am Dorfbrunnen\n\n\n\n\nAuf der Karte: \n\n\n\n\n\n\n\n\n\nBuchungsformular:\n\n\n\n		\n		\n\n		\n\n	\n\n		\n		\n		\n		\n			\n			\n	\n\n		Vorname*\n		\n				\n						\n\n\n\n		Nachname*\n		\n				\n						\n\n\n\n		E-Mail*\n		\n				\n						\n\n\n\n		Telefon (mobil)*\n		\n				\n						\n\n\n\n		Straße & Hausnummer*\n		\n				\n						\n\n\n\n		PLZ & Ort*\n		\n				\n						\n\n\n\n		Anzahl Erwachsene\n		\n				\n						\n\n\n\n		Anzahl Kinder\n		\n				\n						\n\n\n\n		Gummistiefel (Anzahl / Schuhgröße)\n		\n				\n						\n\n\n\n		\n					\n				Ich akzeptiere die hier geltende Datenschutzerklärung und AGB*\n			\n					Zur Datenschutzerklärung			\n\n\n\n		Sicherheitsfrage - Was ist 3 + 3*\n		\n				\n						\n\n\n		\n\n		\n			Comments\n			\n				\n				Wenn Sie ein Mensch sind\, füllen Sie dieses Feld nicht aus \n			\n		\n\n		\n			\n		\n\n	\n\n	\n			\n\n\n	\n\n\n\n\n\nUhr
URL:https://www.goenndirwatt.de/tour/watt-fuer-alle-57/
LOCATION:Cuxhaven Duhnen\, Am Dorfbrunnen\, Cuxhaven\, Niedersachsen\, 27476\, Deutschland
CATEGORIES:WATT_FUER_ALLE
ATTACH;FMTTYPE=image/jpeg:https://www.goenndirwatt.de/wp-content/uploads/2024/08/watt-fuer-alle.jpg
END:VEVENT
BEGIN:VEVENT
DTSTART;TZID=Europe/Berlin:20261231T110000
DTEND;TZID=Europe/Berlin:20261231T110000
DTSTAMP:20260425T062740
CREATED:20251220T170616Z
LAST-MODIFIED:20251222T130212Z
UID:3107-1798714800-1798714800@www.goenndirwatt.de
SUMMARY:Watt für Alle
DESCRIPTION:Informativer und kurzweiliger Wattspaziergang für ALLE\, die in kurzer Zeit möglichst viel über das Watt und seine Bewohner erfahren wollen. \n\n\n\nAlle Teilnehmenden bekommen die Gelegenheit das Watt mit allen Sinnen zu erkunden. Für die kleinen und großen Entdecker halten wir Kescher bereit. \n\n\n\nUnsere Erklärungen gestalten wir so\, dass sie für Kinder verständlich sind\, aber auch die Erwachsenen nicht zu kurz kommen. Und das Beste: Sie bestimmen durch ihre Entdeckungen und Fragen die Tour mit! \n\n\n\nWir begrenzen unsere Gruppen auf ca. 25 Personen. \n\n\n\nDiese Tour ist barfuß möglich. Sicherer ist es mit einem leichten Schnittschutz z. B. Wattsocken. \n\n\n\nWir empfehlen in dieser Jahreszeit Gummistiefel (mind. 20 cm Schafthöhe) mit dicken Socken. \n\n\n\nDa die nicht jeder hat\, leihen wir Ihnen diese gern gegen eine kleine Gebühr. Leihstiefel sind in den Größen 37 bis 46 vorhanden. Die Anzahl ist allerdings begrenzt\, reservieren Sie ihr Paar also frühzeitig! \n\n\n\nDas Buchungsformular finden Sie am unteren Ende dieser Seite. \n\n\n\n\n\n\n\n\n\n 1\,5 bis 2 Stunden / max. 2 km \n\n\n\n\n\n  Dorfbrunnen Cuxhaven – Duhnen \n\n\n\n\n\n 0 – geeignet ab 4 Jahren \n\n\n\n\n\nHighlight:  \n\n\n\n\nkurzweilig\n\n\n\ninformativ und familienfreundlich\n\n\n\n\nPreise:  \n\n\n\n\nErwachsene 12 €\n\n\n\nKinder bis 14 Jahre 10 €\n\n\n\nFamilien (2 Erw. 2 Kinder) 42 € \n\n\n\nGummistiefel (pro Paar) 5 €\n\n\n\n\nTreffpunkt:  \n\n\n\n\nCuxhaven\, Duhnen am Dorfbrunnen\n\n\n\n\nAuf der Karte: \n\n\n\n\n\n\n\n\n\nBuchungsformular:\n\n\n\n		\n		\n\n		\n\n	\n\n		\n		\n		\n		\n			\n			\n	\n\n		Vorname*\n		\n				\n						\n\n\n\n		Nachname*\n		\n				\n						\n\n\n\n		E-Mail*\n		\n				\n						\n\n\n\n		Telefon (mobil)*\n		\n				\n						\n\n\n\n		Straße & Hausnummer*\n		\n				\n						\n\n\n\n		PLZ & Ort*\n		\n				\n						\n\n\n\n		Anzahl Erwachsene\n		\n				\n						\n\n\n\n		Anzahl Kinder\n		\n				\n						\n\n\n\n		Gummistiefel (Anzahl / Schuhgröße)\n		\n				\n						\n\n\n\n		\n					\n				Ich akzeptiere die hier geltende Datenschutzerklärung und AGB*\n			\n					Zur Datenschutzerklärung			\n\n\n\n		Sicherheitsfrage - Was ist 3 + 2*\n		\n				\n						\n\n\n		\n\n		\n			Comments\n			\n				\n				Wenn Sie ein Mensch sind\, füllen Sie dieses Feld nicht aus \n			\n		\n\n		\n			\n		\n\n	\n\n	\n			\n\n\n	\n\n\n\n\n\nUhr
URL:https://www.goenndirwatt.de/tour/watt-fuer-alle-59/
LOCATION:Cuxhaven Duhnen\, Am Dorfbrunnen\, Cuxhaven\, Niedersachsen\, 27476\, Deutschland
CATEGORIES:WATT_FUER_ALLE
ATTACH;FMTTYPE=image/jpeg:https://www.goenndirwatt.de/wp-content/uploads/2024/08/watt-fuer-alle.jpg
END:VEVENT
END:VCALENDAR